BEGIN:VCALENDAR
VERSION:2.0
PRODID:-//wp-events-plugin.com//6.6.1//EN
TZID:Europe/Helsinki
X-WR-TIMEZONE:Europe/Helsinki
BEGIN:VEVENT
UID:8@etkespoo.com
DTSTART;TZID=Europe/Helsinki;VALUE=DATE:20240412
DTEND;TZID=Europe/Helsinki;VALUE=DATE:20240413
DTSTAMP:20240517T105711Z
URL:https://www.etkespoo.com/tapahtumat/12-4-etklle-okmn-seuratukea/
SUMMARY:12.4. ETK:lle OKM:n Seuratukea
DESCRIPTION:ETK:lle on myönnetty Opetus- ja kulttuuriministeriön Seuratuk
 ea kotouttamishankkeeseen.\n&nbsp\;\n\nETK:n OKM-hankkeen tavoitteena on\,
  että liikunnan kautta syntynyt vuorovaikutus voi edistää maahanmuuttaj
 ien sosiaalisten suhteiden kehittymistä ja osallisuutta suomalaiseen yhte
 iskuntaan. Hankkeen myötä toivotaan\, että mukana olleiden kynnys osall
 istua seuratoimintaan laskee ja seuraan saadaan uusia harrastajia.\n\n"Ole
 n todella tyytyväinen\, siitä\, että seuramme on onnistunut kehittämä
 än (käsittääksemme) lajille täysin uudenlaista yhteiskuntavastuullist
 a toimintaa\, jolla pystymme myös tukemaan yhä paremmin Taitoluistelulii
 ton visiota Koko Suomi Luistelee" iloitsee seuran toiminnanjohtaja Henriik
 ka Aihinen.\n\nHankkeen avulla toteutettava toiminta käynnistyy syksyllä
  2024. Luistelukoulun ryhmävalikoimaan tulee kaksi englannin kielistä\, 
 maahanmuuttajataustaisille lapsille suunnattua alkeisryhmää. Lisätietoj
 a jaamme lähempänä syksyä.\n\nSeuratuki on tarkoitettu lasten ja nuort
 en monipuolisen organisoidun liikunnan kehittämiseen ja liikuntaharrastus
 ten lisäämiseen. Seuratuen tavoitteena on mm. edistää matalan harrastu
 skynnyksen toimintaa sekä kokeilla innovatiivisia toimintamalleja.
CATEGORIES:Ajankohtaista
END:VEVENT
BEGIN:VTIMEZONE
TZID:Europe/Helsinki
X-LIC-LOCATION:Europe/Helsinki
BEGIN:DAYLIGHT
DTSTART:20240331T040000
TZOFFSETFROM:+0200
TZOFFSETTO:+0300
TZNAME:EEST
END:DAYLIGHT
END:VTIMEZONE
END:VCALENDAR