BEGIN:VCALENDAR
VERSION:2.0
PRODID:-//wp-events-plugin.com//6.6.1//EN
TZID:Europe/Helsinki
X-WR-TIMEZONE:Europe/Helsinki
BEGIN:VEVENT
UID:10@etkespoo.com
DTSTART;TZID=Europe/Helsinki;VALUE=DATE:20240913
DTEND;TZID=Europe/Helsinki;VALUE=DATE:20240916
DTSTAMP:20240906T104257Z
URL:https://www.etkespoo.com/tapahtumat/13-15-9-skate-espoo/
SUMMARY:13.-15.9. Skate Espoo
DESCRIPTION:Yksinluistelun aloituskilpailu Skate Espoo luistellaan Ilmatar 
 Areenalla 13.-15.9.\nKilpailusarjat\nDebytantit\, tytöt ja pojat\nSM-Novi
 isit\, tytöt ja pojat\nJuniorit\, naiset ja miehet\nSM-Juniorit\, naiset 
 ja miehet\nSeniorit\, naiset ja miehet\nSM-Seniorit\, naiset ja miehet\nTa
 pahtumasivulle.
CATEGORIES:Kilpailu
LOCATION:Ilmatar Areena\, Matinkartanontie 5\, Espoo\, 02230\, Suomi
X-APPLE-STRUCTURED-LOCATION;VALUE=URI;X-ADDRESS=Matinkartanontie 5\, Espoo\
 , 02230\, Suomi;X-APPLE-RADIUS=100;X-TITLE=Ilmatar Areena:geo:0,0
END:VEVENT
BEGIN:VTIMEZONE
TZID:Europe/Helsinki
X-LIC-LOCATION:Europe/Helsinki
BEGIN:DAYLIGHT
DTSTART:20240331T040000
TZOFFSETFROM:+0200
TZOFFSETTO:+0300
TZNAME:EEST
END:DAYLIGHT
END:VTIMEZONE
END:VCALENDAR