BEGIN:VCALENDAR
VERSION:2.0
PRODID:-//wp-events-plugin.com//6.6.1//EN
TZID:Europe/Helsinki
X-WR-TIMEZONE:Europe/Helsinki
BEGIN:VEVENT
UID:6@etkespoo.com
DTSTART;TZID=Europe/Helsinki:20240219T130000
DTEND;TZID=Europe/Helsinki:20240219T150000
DTSTAMP:20240212T134543Z
URL:https://www.etkespoo.com/tapahtumat/19-2-soveltavan-luistelun-tapahtum
 a-tapiolassa/
SUMMARY:19.2. Soveltavan luistelun tapahtuma Tapiolassa
DESCRIPTION:Talviloman Hop on Hop off- toiminta on kivaa liikunnallista tek
 emistä lapsille\, nuorille ja perheille.\n\nTaitoluistelutoimintaa pääs
 ee kokeilemaan Talvilomaviikon maanantaina Tapiolan harjoitushallille klo 
 13-15.\nMukaan tarvitsee omat luistimet ja jäälle sopivat lämpimät vaa
 tteet. Suosittelemme kypärän käyttöä.\n\nToiminta on osa Paralympiako
 mitean Avoimet ovet hanketta\, joka edistää yhdenvertaista seuratoiminta
 a sekä lisää tietoisuutta paraurheilusta ja soveltavasta liikunnasta. T
 oiminnan järjestää Suomen Paralympiakomitea\, Espoon Liikunta ja urheil
 u sekä paikalliset urheiluseurat - Taitoluistelutoiminnasta 19.2. vastaa 
 Espoon Taitoluisteluklubi.\n\nLisätiedot ja muut Espoossa järjestettäv
 ät lomatekemiset löydät Espoon kaupungin verkkosivuilta.
CATEGORIES:Kilpailu
LOCATION:Tapiolan harjoitusjäähalli\, Koivu-Mankkaan tie 5\, Espoo\, Tapi
 ola\, Suomi
X-APPLE-STRUCTURED-LOCATION;VALUE=URI;X-ADDRESS=Koivu-Mankkaan tie 5\, Espo
 o\, Tapiola\, Suomi;X-APPLE-RADIUS=100;X-TITLE=Tapiolan harjoitusjäähall
 i:geo:0,0
END:VEVENT
BEGIN:VTIMEZONE
TZID:Europe/Helsinki
X-LIC-LOCATION:Europe/Helsinki
BEGIN:STANDARD
DTSTART:20231029T030000
TZOFFSETFROM:+0300
TZOFFSETTO:+0200
TZNAME:EET
END:STANDARD
END:VTIMEZONE
END:VCALENDAR