BEGIN:VCALENDAR
VERSION:2.0
PRODID:-//wp-events-plugin.com//6.6.1//EN
TZID:Europe/Helsinki
X-WR-TIMEZONE:Europe/Helsinki
BEGIN:VEVENT
UID:18@etkespoo.com
DTSTART;TZID=Europe/Helsinki:20240925T180000
DTEND;TZID=Europe/Helsinki:20240925T200000
DTSTAMP:20240930T123535Z
URL:https://www.etkespoo.com/tapahtumat/25-9-vuosikokous/
SUMMARY:25.9. Vuosikokous
DESCRIPTION:Vuosikokous\nEspoon Taitoluisteluklubin vuosikokous järjestett
 iin Ilmatar Areenalla keskiviikkona klo 18.00.\nHallitus uudistuu\nVuosiko
 kous valitsi erovuorossa olevien hallitusten jäsenten tilalle uudet halli
 tuksen jäsenet. ETK sai vuosikokouksen äänestämänä uuden puheenjohta
 jan ja uudistuneen hallituksen:\n\nLaura Junttila (puheenjohtaja)\nNora Va
 ula\nHelena Tschokkinen\nNiklas Carlstedt\nMarkus Lindqvist\nLiisa Kiuru\n
 Katja Saari\nKiira Kivisaari (varajäsen\, ml)\nHenna Pellonmaa (varajäse
 n\, yl)\n\nETK kiittää hallituksesta pois jääneitä hallituksen jäsen
 iä. Henrik Ehlers toimi ETK:n puheenjohtajana viimeiset kaksi vuotta. Hen
 rikin johdolla hallitus on kääntänyt ansiokkaasti seuran talouden kurss
 ia positiivisempaan suuntaan\, ja on tehnyt useita päätöksiä ja toimen
 piteitä seuratoiminnan kehittämiseksi. Henrik on ollut uudistusmyöntein
 en ja välittävä puheenjohtaja\, joka on antanut seuran hyväksi valtava
 sti aikaa ja osaamistaan. Sydämellinen kiitos Henrik puheenjohtajakaudest
 asi!\n\nToivotamme uudet hallituksen jäsenet ja puheenjohtajan lämpimäs
 ti tervetulleeksi!\nETK saa uuden ilmeen\nToimintasuunnitelman esittelyn y
 hteydessä julkaistiin ETK:n uusi logo\, joka otetaan käyttöön heti tor
 staina 26.9.2024. ETK yhdistyy uuden ilmeen myötä vahvemmin Uudenmaan\, 
 Espoon ja espoolaisen jääurheilun tunnistettaviin sinisen ja keltaisen s
 ävyihin. Logo ja värit otetaan käyttöön asteittain\, ja kaudelle 2025
 -2026 lähdetään täysin uudella ilmeellä. Myös fani- ja seuratuotemal
 listo uudistetaan. Joukkueet\, ryhmät ja jaostot tulevat saamaan tarkemma
 n ohjeistuksen lähipäivien aikana. Nykyisten varusteiden käyttöä void
 aan uudistuksesta huolimatta yhä jatkaa - logon ja vanhan ilmeen mukaiste
 n varusteiden kohdalla hyödynnetään kahden vuoden siirtymäaikaa.\nAjan
 kohta\, paikka ja käsiteltävät asiat\nAika: Keskiviikkona 25.9.2024 klo
  18.00\nPaikka: Ilmatar- Areena\, Koulutustila\, 2. krs\, Matinkartanontie
  5\, 02230 Espoo\n\nKäsiteltävät asiat:\n1.  Avataan kokous\n2.  Val
 itaan kokoukselle puheenjohtaja\, sihteeri\, kaksi pöytäkirjan tarkastaj
 aa ja ääntenlaskijat\n3.  Todetaan läsnä olevat äänioikeutetut jäs
 enet\n4.  Todetaan kokouksen laillisuus ja päätösvaltaisuus\n5.   Esi
 tetään hallituksen laatima toimintakertomus ja tilinpäätös sekä tili
 ntarkastajan ja toiminnantarkastajan antama lausunto\n6.  Päätetään 
 tilinpäätöksen vahvistamisesta ja vastuuvapauden myöntämisestä hall
 itukselle ja muille vastuuvelvollisille\n7. Vahvistetaan jäsenmaksun suur
 uus\n8. Vahvistetaan hallituksen laatima toimintasuunnitelma ja talousarvi
 o\n9. Valitaan jäsenten keskuudesta hallituksen puheenjohtaja\, mikäli
  hänen sääntöjen 14§:n mukainen toimikautensa päättyy kysymyksessä
  olevan vuosikokouksen päättyessä\n10. Valitaan hallituksen jäsenet 
 ja varajäsenet erovuorossa olevien tilalle\n11. Valitaan tilintarkastaja 
 ja toiminnantarkastaja sekä heille varamiehet\n12. Päätetään jäseny
 ydestä muissa järjestöissä ja yhteisöissä\n13. Päätetään seuran 
 edustajista niihin järjestöihin ja yhteisöihin\, joissa seura on jäsen
 enä\n14. Käsitellään muut kokouskutsussa mainitut asiat\n15. Päätet
 ään kokous\n\nTervetuloa!\nHaluathan Sinäkin vaikuttaa Espoon Taitoluis
 teluklubi ry:n toimintaan\nMaksamalla vapaaehtoisen jäsenmaksun ennen var
 sinaista sääntömääräistä vuosikokousta\, saat oikeuden äänestää
  seuran vuosikokouksessa. Huomioithan pankkiviiveet maksujen näkymisessä
 \, eli varaudu todistamaan jäsenmaksusi jos olet maksanut sen lähellä v
 uosikokouksen päivämäärää.\n\nSumma\, 40€\, maksetaan ETK:n tilill
 e IBAN: FI64 4405 0010 5247 94\n\nViestikenttään: Vapaaehtoinen jäsenma
 ksu 40€ ja jäsenen nimi ja osoite (huom. jos maksat enemmän kuin yhden
  henkilön\, niin lisää kaikkien jäsenten nimet)\n\nETK:n jokainen\, 25
 .9.2024 mennessä 15 vuotta täyttänyt jäsen on äänioikeutettu seuran 
 vuosikokouksessa. Seuran luistelijat ovat jo jäsenrekisterissä.
CATEGORIES:Kilpailu
END:VEVENT
BEGIN:VTIMEZONE
TZID:Europe/Helsinki
X-LIC-LOCATION:Europe/Helsinki
BEGIN:DAYLIGHT
DTSTART:20240331T040000
TZOFFSETFROM:+0200
TZOFFSETTO:+0300
TZNAME:EEST
END:DAYLIGHT
END:VTIMEZONE
END:VCALENDAR