BEGIN:VCALENDAR
VERSION:2.0
PRODID:-//wp-events-plugin.com//6.6.1//EN
TZID:Europe/Helsinki
X-WR-TIMEZONE:Europe/Helsinki
BEGIN:VEVENT
UID:20@etkespoo.com
DTSTART;TZID=Europe/Helsinki:20250103T170000
DTEND;TZID=Europe/Helsinki:20250103T190000
DTSTAMP:20241220T084935Z
URL:https://www.etkespoo.com/tapahtumat/3-1-jaadisco/
SUMMARY:3.1. Jäädisco
DESCRIPTION:Tervetuloa Jäädiscoon!\nOta mukaan kaverit tai perhe\, luisti
 met ja kypärä (suositeltava)\, ja suuntaa perjantaina 3.1. jäälle viet
 tämään mukavaa iltaa mukaansatempaavan musiikin ja iloisen tunnelman pa
 riin Jäädiscoon! Tapahtuma sopii kaikenikäisille.\nTapahtuman ajan käy
 tössä on pukuhuone\, jossa luistelijat voivat vaihtaa varusteet. Huomioi
 than\, että jäälle ja vaihtoaitioon pääsevät vain luistelijat. Katso
 jat ovat lämpimästi tervetulleita seuraamaan discotunnelmia katsomosta t
 ai kahviosta.\nTapahtumaan on vapaa pääsy.
ATTACH;FMTTYPE=image/jpeg:https://www.etkespoo.com/wp-content/uploads/Jaad
 isco-IG-postaus-e1732267154192.jpg
CATEGORIES:Ajankohtaista
LOCATION:Ilmatar Areena\, Matinkartanontie 5\, Espoo\, 02230\, Suomi
X-APPLE-STRUCTURED-LOCATION;VALUE=URI;X-ADDRESS=Matinkartanontie 5\, Espoo\
 , 02230\, Suomi;X-APPLE-RADIUS=100;X-TITLE=Ilmatar Areena:geo:0,0
END:VEVENT
BEGIN:VTIMEZONE
TZID:Europe/Helsinki
X-LIC-LOCATION:Europe/Helsinki
BEGIN:STANDARD
DTSTART:20241027T030000
TZOFFSETFROM:+0300
TZOFFSETTO:+0200
TZNAME:EET
END:STANDARD
END:VTIMEZONE
END:VCALENDAR