BEGIN:VCALENDAR
VERSION:2.0
PRODID:-//wp-events-plugin.com//6.6.1//EN
TZID:Europe/Helsinki
X-WR-TIMEZONE:Europe/Helsinki
BEGIN:VEVENT
UID:13@etkespoo.com
DTSTART;TZID=Europe/Helsinki:20240830T170000
DTEND;TZID=Europe/Helsinki:20240830T190000
DTSTAMP:20240930T123718Z
URL:https://www.etkespoo.com/tapahtumat/espoo-paiva/
SUMMARY:Espoo-päivä
DESCRIPTION:Espoo-päivä\nKutsumme perjantaina 30.8. kaikki luistelijat\, 
 vanhemmat\, kaverit ja tutun tutut mukaan Espoo-päivän jäälle Ilmatar
  Areenalle klo 17-19. Jäälle voivat osallistua ihan kaikki halukkaat tai
 doista riippumatta.\nOhjelma\nJään avaa maajoukkueluistelija Janna Jyrk
 inen ohjelmallaan\, jonka jälkeen jäälle pääsee luistelemaan Jannan 
 sekä Reflections -joukkueen kanssa. Ohjelmassa mm. leikkejä\, musiikin
  tulkintaa\, temppuja ja muodostelmakuvioita. N. klo 17.45 ohjelma muuttuu
  vapaammaksi\, ja jäälle pääsee luistelemaan musiikin tahdissa.\n\nPai
 kan päällä on mahdollista lainata taitoluistimia perheen pienimmille. L
 uistimia on rajoitettu määrä hajakokoja.\n\nNappaa koko perhe ja kaveri
 t mukaan\, ja tule nauttimaan taitoluistelun huumasta Espoo-päivään!\n\
 nLisätietoja Espoo-päivästä Espoon kaupungin kanavissa espoo.fi.
CATEGORIES:Ajankohtaista
END:VEVENT
BEGIN:VTIMEZONE
TZID:Europe/Helsinki
X-LIC-LOCATION:Europe/Helsinki
BEGIN:DAYLIGHT
DTSTART:20240331T040000
TZOFFSETFROM:+0200
TZOFFSETTO:+0300
TZNAME:EEST
END:DAYLIGHT
END:VTIMEZONE
END:VCALENDAR