BEGIN:VCALENDAR
VERSION:2.0
PRODID:-//wp-events-plugin.com//6.6.1//EN
TZID:Europe/Helsinki
X-WR-TIMEZONE:Europe/Helsinki
BEGIN:VEVENT
UID:19@etkespoo.com
DTSTART;TZID=Europe/Helsinki;VALUE=DATE:20241108
DTEND;TZID=Europe/Helsinki;VALUE=DATE:20241109
DTSTAMP:20241118T115403Z
URL:https://www.etkespoo.com/tapahtumat/etk-hakee-seurakoordinaattoria/
SUMMARY:ETK hakee seurakoordinaattoria
DESCRIPTION:Espoon Taitoluisteluklubi on dynaaminen ja kasvava urheiluseura
 \, joka luo erinomaiset mahdollisuudet taitoluistelun harrastus- ja kilpai
 lutoiminnalle Espoossa ikään katsomatta. Intohimonamme on taitoluistelun
  edistäminen kaikilla ikä- ja sarjatasoilla. Nyt etsimme kokenutta ja en
 ergistä seurakoordinaattoria vahvistamaan tiimiämme.\n\nTehtäväsi:\nSe
 urakoordinaattorina vastaat seuran päivittäisen toiminnan koordinoinnist
 a ja tukemisesta. Monipuolisiin tehtäviisi kuuluvat mm.:\n\n 	Seuran arje
 n operatiivinen koordinointi: jäsenrekisteröintien\, aikataulujen ja res
 urssien hallinta.\n 	Yhteistyö valmentajien\, toimihenkilöiden ja vapaae
 htoisten kanssa.\n 	Tapahtumien\, kilpailujen ja leirien suunnittelu ja to
 teutus.\n 	Markkinointi ja viestintä: vastaat verkkosivujen päivityksist
 ä ja seuran näkyvyydestä somessa.\n 	Budjetointi ja talouden seuranta y
 hteistyössä hallituksen kanssa.\n 	Jäsenhankinta ja jäsenpalvelut: luo
 t keinoja jäsenmäärän kasvattamiseksi ja palvelun kehittämiseksi.\n 	
 Toiminnan kehittäminen ja erilaisten projektien käynnistäminen.\n\nEtsi
 mme henkilöä\, joka:\n\n 	On organisointikykyinen ja itseohjautuva – h
 allitset useita tehtäviä samanaikaisesti ja hoidat vastuullasi olevat te
 htävät tehokkaasti.\n 	Nauttii ihmisten kanssa työskentelystä ja omaa 
 hyvät vuorovaikutustaidot – osaat toimia eri sidosryhmien kanssa ja mot
 ivoida niin vapaaehtoisia kuin työntekijöitäkin.\n 	On ratkaisukeskeine
 n ja joustava – mukaudut nopeasti muuttuviin tilanteisiin ja löydät to
 imivia ratkaisuja haasteisiin.\n 	Arvostaa urheilun ja liikunnan merkityst
 ä  - Kokemus urheilun tai liikunna parista on eduksi\, mutta ei välttä
 mätöntä. Tärkeintä on aito halu kehittää seuran toimintaa ja tukea 
 sen jäseniä.\n\nMitä tarjoamme sinulle:\n\n 	Mahdollisuuden vaikuttaa s
 euran tulevaisuuteen ja kehittää toimintaa.\n 	Viihtyisän ja kannustava
 n työympäristön – tiimin\, jossa yhdessä tekeminen on voimavara.\n 	
 Vaihtelevan ja vastuullisen tehtäväkentän\, jossa pääset suunnittelem
 aan työtäsi itsenäisesti ja toteuttamaan ideoitasi.\n 	Mahdollisuuden v
 aikuttaa seuran strategisiin valintoihin.\n\nKiinnostuitko? Näin haet teh
 tävää:\nLähetä meille hakemuksesi ansioluettelon ja palkkatoiveen ker
 a mahdollisimman pian osoitteeseen toiminnanjohtaja@etkespoo.com. Käsitte
 lemme hakemukset saapumisjärjestyksessä. Viimeinen hakupäivä on 24.11.
 2024. Kerro meille\, miksi juuri sinä olisit oikea valinta ETK:n uudeksi 
 seurakoordinaattoriksi!\n\nLisätietoja tehtävästä\n\nHenriikka Aihinen
 \nToiminnanjohtaja\nhenriikka.aihinen@etkespoo.com\n040 596 1466
ATTACH;FMTTYPE=image/jpeg:https://www.etkespoo.com/wp-content/uploads/ETK-
 kansikuva1.png
CATEGORIES:Ajankohtaista
END:VEVENT
BEGIN:VTIMEZONE
TZID:Europe/Helsinki
X-LIC-LOCATION:Europe/Helsinki
BEGIN:STANDARD
DTSTART:20241027T030000
TZOFFSETFROM:+0300
TZOFFSETTO:+0200
TZNAME:EET
END:STANDARD
END:VTIMEZONE
END:VCALENDAR