BEGIN:VCALENDAR
VERSION:2.0
PRODID:-//wp-events-plugin.com//6.6.1//EN
TZID:Europe/Helsinki
X-WR-TIMEZONE:Europe/Helsinki
BEGIN:VEVENT
UID:27@etkespoo.com
DTSTART;TZID=Europe/Helsinki:20250930T180000
DTEND;TZID=Europe/Helsinki:20250930T193000
DTSTAMP:20251002T132822Z
URL:https://www.etkespoo.com/tapahtumat/etkn-saantomaarainen-vuosikokous-p
 idetaan-30-9-2025/
SUMMARY:ETK:n sääntömääräinen vuosikokous pidettiin 30.9.2025
DESCRIPTION:Espoon Taitoluisteluklubin sääntömääräinen vuosikokous pi
 dettiin tiistaina 30.9.2025.\nSeuran vuosikokous pidettiin hyvässä ja na
 pakassa hengessä. Kokouksessa käsiteltiin sääntömääräiset asiat\, 
 ja toimintakertomus sekä tilinpäätös hyväksyttiin. Hallitukselle ja m
 uille vastuuvelvollisille myönnettiin vastuuvapaus.\nJäsenmaksu kaudelle
  2026–2027 päätettiin pitää ennallaan\, 40 euroa. Kokouksessa vahvis
 tettiin myös hallituksen laatima toimintasuunnitelma ja talousarvio tulev
 alle kaudelle.  Vuosikokous valitsi erovuorossa olevien hallitusten jäse
 nten tilalle uudet hallituksen jäsenet. Uusi hallitus:\nLaura Junttila (p
 uheenjohtaja)\nKiira Kivisaari\nHelena Tschokkinen\nNiklas Carlstedt\nMark
 us Lindqvist\nLiisa Kiuru\nKatja Saari\nAnu Kättö (varajäsen\, ml)\nNor
 a Vaula (varajäsen\, yl)\n\nToivotamme uuden hallituksen jäsenen lämpim
 ästi tervetulleeksi! Seuraava kokous on järjestäytymiskokous lokakuussa
 .\nLisäksi kokouksessa valittiin tilintarkastaja ja toiminnantarkastaja v
 arahenkilöineen. Kokous vahvisti  myös seuran jäsenyyden muissa järje
 stöissä (STLL\, Eslu ja Ejut) ja yhteisöissä sekä päätti että hall
 itus nimeää seuran edustajat niihin (pl. Henriikka Aihinen nimettiin jo 
 EJUT:n jäseneksi edustaen seuraamme).\n\n********************************
 ****************************************************\nAjankohta\, paikka j
 a käsiteltävät asiat\nAika: Tiistaina 30.9.2025 klo 18.00\nPaikka: Ilma
 tar- Areena\, Koulutustila\, 2. krs\, Matinkartanontie 5\, 02230 Espoo\n\n
 Käsiteltävät asiat:\n1.  Avataan kokous\n2.  Valitaan kokoukselle pu
 heenjohtaja\, sihteeri\, kaksi pöytäkirjan tarkastajaa ja ääntenlaskij
 at\n3.  Todetaan läsnä olevat äänioikeutetut jäsenet\n4.  Todetaan 
 kokouksen laillisuus ja päätösvaltaisuus\n5.   Esitetään hallituksen
  laatima toimintakertomus ja tilinpäätös sekä tilintarkastajan ja toim
 innantarkastajan antama lausunto\n6.  Päätetään tilinpäätöksen va
 hvistamisesta ja vastuuvapauden myöntämisestä hallitukselle ja muille 
 vastuuvelvollisille\n7. Vahvistetaan jäsenmaksun suuruus\n8. Vahvistetaan
  hallituksen laatima toimintasuunnitelma ja talousarvio\n9. Valitaan jäs
 enten keskuudesta hallituksen puheenjohtaja\, mikäli hänen sääntöjen
  14§:n mukainen toimikautensa päättyy kysymyksessä olevan vuosikokouks
 en päättyessä\n10. Valitaan hallituksen jäsenet ja varajäsenet erov
 uorossa olevien tilalle\n11. Valitaan tilintarkastaja ja toiminnantarkasta
 ja sekä heille varamiehet\n12. Päätetään jäsenyydestä muissa järj
 estöissä ja yhteisöissä\n13. Päätetään seuran edustajista niihin j
 ärjestöihin ja yhteisöihin\, joissa seura on jäsenenä\n14. Käsitell
 ään muut kokouskutsussa mainitut asiat\n15. Päätetään kokous\n\nTerv
 etuloa!\nHaluathan Sinäkin vaikuttaa Espoon Taitoluisteluklubi ry:n toimi
 ntaan\nMaksamalla vapaaehtoisen jäsenmaksun ennen varsinaista sääntöm
 ääräistä vuosikokousta\, saat oikeuden äänestää seuran vuosikokouk
 sessa. Huomioithan pankkiviiveet maksujen näkymisessä\, eli varaudu todi
 stamaan jäsenmaksusi jos olet maksanut sen lähellä vuosikokouksen päiv
 ämäärää.\n\nSumma\, 40€\, maksetaan ETK:n tilille IBAN: FI64 4405 0
 010 5247 94\n\nViestikenttään: Vapaaehtoinen jäsenmaksu 40€ ja jäsen
 en nimi ja osoite (huom. jos maksat enemmän kuin yhden henkilön\, niin l
 isää kaikkien jäsenten nimet)\n\nETK:n jokainen\, 30.9.2025 mennessä 1
 5 vuotta täyttänyt jäsen on äänioikeutettu seuran vuosikokouksessa. S
 euran luistelijat ovat jo jäsenrekisterissä.
ATTACH;FMTTYPE=image/jpeg:https://www.etkespoo.com/wp-content/uploads/ETK-
 espoo-sininen2.png
CATEGORIES:Kokous
END:VEVENT
BEGIN:VTIMEZONE
TZID:Europe/Helsinki
X-LIC-LOCATION:Europe/Helsinki
BEGIN:DAYLIGHT
DTSTART:20250330T040000
TZOFFSETFROM:+0200
TZOFFSETTO:+0300
TZNAME:EEST
END:DAYLIGHT
END:VTIMEZONE
END:VCALENDAR