BEGIN:VCALENDAR
VERSION:2.0
PRODID:-//wp-events-plugin.com//6.6.1//EN
TZID:Europe/Helsinki
X-WR-TIMEZONE:Europe/Helsinki
BEGIN:VEVENT
UID:24@etkespoo.com
DTSTART;TZID=Europe/Helsinki;VALUE=DATE:20250602
DTEND;TZID=Europe/Helsinki;VALUE=DATE:20250614
DTSTAMP:20250418T102341Z
URL:https://www.etkespoo.com/tapahtumat/etkn-summerblade-2025-kesaleiri/
SUMMARY:ETK:n SummerBlade 2025 -kesäleiri
DESCRIPTION:ETK:n SummerBlade 2025 -kesäleiri taitoluistelijoille Espoon M
 atinkylän urheilukeskuksessa.\n&nbsp\;\n\nEspoon Taitoluisteluklubi järj
 estää kesäkuussa ETK SummerBlade 2025 -kesäleirit Espoon Matinkyläss
 ä\nviikoilla 23. ja 24.\n\nKesäleirien harjoitusolosuhteet ovat vertaans
 a vailla\, leireillä treenataan huippuolosuhteissa\, Matinkylän Ilmatar 
 Areenalla ja viereisessä Matinkylän harjoitusjäähallissa. Oheisharjoit
 ukset pidetään osin myös jäähallin ympäristössä\, Matinkylän urhe
 ilukeskuksessa.\n\nLeiri sisältää harjoittelun jäällä\, oheis- ja ta
 nssiharjoituksissa sekä fysiossa. Lisäksi päivällä nautitaan ravitsev
 a lounas Cafeteria Ilmattaressa.\n\nTarkempi leiriohjelma julkaistaan läh
 empänä leiriä. Leiripäivät ajoittuvat tintit\, minit ja silmut -sarjo
 jen luistelijoille klo 8-16 välille. Leirillä on leirihuoltajat nuoremmi
 lle luistelijoille.\n\nLeirillä luistelijoita valmentavat seuramme huippu
 valmentajat\n\nETK SummerBlade 2025-valmentajina toimii ETK:n huippu tiimi
 : Jonna Ylimäki\, Anna Mertanen\, Tanja Hakkarainen\, Emmi Artela\, Asta 
 Uusimäki sekä lisäksi Aleksander Baidukov (vkolla 23) Sara Honkavaara (
 vkolla 24 aamupäivät).\n\nFysioharjoituksista vastaa Elina Järvinen ja 
 tanssi- ja balettivalmennuksesta Leo Lenkola.\n\nKaikki yksinluisteluvalme
 ntajamme ovat ammattivalmentajia ja ovat käyneet valmentajakoulutuksen. S
 en lisäksi\, että valmentajamme kehittävät ja kannustavat luistelijoit
 aan yhä vaativampiin ja upeampiin suorituksiin\, halutaan harjoittelussa 
 säilyttää myös luistelun ilo. Lasten ja nuorten hyvinvointi on aina et
 usijalla!\n\nLeirille ilmoittautuminen\n\nLeiri on avoin kaikkien seurojen
  kilpaileville taitoluistelijoille aina tinteistä SM-Seniorit -sarjaan as
 ti.\n\nPaikkoja on rajoitetusti seuramme ulkopuolisille luistelijoille.\n\
 nTarkemmat tiedot ilmoittautumisesta ja leirimaksuista tulevat huhtikuun a
 ikana.\n\nTervetuloa mukaan ETK SummerBlade 2025 -leireille!\n\n&nbsp\;\n\
 n
CATEGORIES:Ajankohtaista
LOCATION:Ilmatar Areena\, Matinkartanontie 5\, Espoo\, 02230\, Suomi
X-APPLE-STRUCTURED-LOCATION;VALUE=URI;X-ADDRESS=Matinkartanontie 5\, Espoo\
 , 02230\, Suomi;X-APPLE-RADIUS=100;X-TITLE=Ilmatar Areena:geo:0,0
END:VEVENT
BEGIN:VTIMEZONE
TZID:Europe/Helsinki
X-LIC-LOCATION:Europe/Helsinki
BEGIN:DAYLIGHT
DTSTART:20250330T040000
TZOFFSETFROM:+0200
TZOFFSETTO:+0300
TZNAME:EEST
END:DAYLIGHT
END:VTIMEZONE
END:VCALENDAR