BEGIN:VCALENDAR
VERSION:2.0
PRODID:-//wp-events-plugin.com//6.6.1//EN
TZID:Europe/Helsinki
X-WR-TIMEZONE:Europe/Helsinki
BEGIN:VEVENT
UID:16@etkespoo.com
DTSTART;TZID=Europe/Helsinki:20241005T112000
DTEND;TZID=Europe/Helsinki:20241005T120000
DTSTAMP:20240930T123931Z
URL:https://www.etkespoo.com/tapahtumat/integration-with-ice-skating/
SUMMARY:5.10. Integration with ice skating
DESCRIPTION:Integration with ice skating\nEspoon Taitoluisteluklubi (ETK) s
 tarts two new multicultural groups for 4-6 and 7-10 year old children. The
  groups are for children who are participating in Skating School for the f
 irst time.\nPractices\nThe practices are held in Matinkylä practice rink 
 on Saturdays at 11.20-12.00\nGroup for 4-6 year old children\nGroup for 7
 -10 year old children\n\nAddress: Matinkylä Practise Rink\, Matinkartano
 ntie 3\, 02230 Espoo.\n\nFirst practices of the fall season will be held o
 n Saturday 5.10. and the practices continue untill 14.12. There are no p
 ractices during the autumn holiday (19.10.).\n\nPrice: This skating course
  is free of charge.\n\nRegister here.\n\nThe groups are funded by the Mini
 stry of Education and Culture\, a funding for sport clubs.
CATEGORIES:Ajankohtaista
LOCATION:Matinkylän harjoitushalli\, Matinkartanontie 5\, Espoo\, Suomi
X-APPLE-STRUCTURED-LOCATION;VALUE=URI;X-ADDRESS=Matinkartanontie 5\, Espoo\
 , Suomi;X-APPLE-RADIUS=100;X-TITLE=Matinkylän harjoitushalli:geo:0,0
END:VEVENT
BEGIN:VTIMEZONE
TZID:Europe/Helsinki
X-LIC-LOCATION:Europe/Helsinki
BEGIN:DAYLIGHT
DTSTART:20240331T040000
TZOFFSETFROM:+0200
TZOFFSETTO:+0300
TZNAME:EEST
END:DAYLIGHT
END:VTIMEZONE
END:VCALENDAR