BEGIN:VCALENDAR
VERSION:2.0
PRODID:-//wp-events-plugin.com//6.6.1//EN
TZID:Europe/Helsinki
X-WR-TIMEZONE:Europe/Helsinki
BEGIN:VEVENT
UID:4@etkespoo.com
DTSTART;TZID=Europe/Helsinki:20240220T170000
DTEND;TZID=Europe/Helsinki:20240220T190000
DTSTAMP:20240124T124212Z
URL:https://www.etkespoo.com/tapahtumat/jaadisco/
SUMMARY:20.2. Jäädisco
DESCRIPTION:\n\nTalviloman Jäädisco tulee taas!\n\nEspoonlahden Forum-jä
 ähalli muntautuu Talvilomaviikon tiistaina Jäädiscoksi. Nappaa luistime
 t mukaan\, ja tule nauttimaan musiikista\, discovaloista ja tunnelmasta Es
 poonlahteen. Paikalla myös ETK:n muodostelmajoukkueen järjestämä buffe
 t\, josta voi napata luistelun lomassa mm. kahvia ja pientä makeaa.\n\nMi
 ssä: Espoonlahden Forum -jäähalli\nMilloin: Tiistaina 20.2.2024 klo 17-
 19\nMitä mukaan: Omat luistimet\, kypärän käyttö suositeltavaa\n\nPyy
 dämme\, että jokainen discoluistelija vaihtaa luistimet ja varusteet pä
 älle pukukopissa (ei vaihtoaitiossa). Käytössä on myös jäähallin ka
 tsomotilat\, joissa voi halutessaan istahtaa discon lomassa syömään esi
 merkiksi buffetista ostamia tuotteita.\n\nHuomaattehan\, että parkkitilaa
  on jäähallin pihassa rajallisesti.\n\nJärjestävät tahot eivät vakuu
 ta osallistujia\, vaan jokaisella Jäädiscoon saapuvalla tulee olla oma v
 oimassaoleva tapaturmavakuutus.\n\n
ATTACH;FMTTYPE=image/jpeg:https://www.etkespoo.com/wp-content/uploads/Jaad
 isco-1920-x-1080-px.jpg
CATEGORIES:Ajankohtaista
LOCATION:Espoonlahden Forum -jäähalli\, Espoonlahdentie 2-4\, Espoo\, 023
 20\, Suomi
X-APPLE-STRUCTURED-LOCATION;VALUE=URI;X-ADDRESS=Espoonlahdentie 2-4\, Espoo
 \, 02320\, Suomi;X-APPLE-RADIUS=100;X-TITLE=Espoonlahden Forum -jäähalli
 :geo:0,0
END:VEVENT
BEGIN:VTIMEZONE
TZID:Europe/Helsinki
X-LIC-LOCATION:Europe/Helsinki
BEGIN:STANDARD
DTSTART:20231029T030000
TZOFFSETFROM:+0300
TZOFFSETTO:+0200
TZNAME:EET
END:STANDARD
END:VTIMEZONE
END:VCALENDAR