BEGIN:VCALENDAR
VERSION:2.0
PRODID:-//wp-events-plugin.com//6.6.1//EN
TZID:Europe/Helsinki
X-WR-TIMEZONE:Europe/Helsinki
BEGIN:VEVENT
UID:14@etkespoo.com
DTSTART;TZID=Europe/Helsinki:20241219T160000
DTEND;TZID=Europe/Helsinki:20241219T203000
DTSTAMP:20241218T130031Z
URL:https://www.etkespoo.com/tapahtumat/joulunaytos/
SUMMARY:19.12. Joulunäytös
DESCRIPTION:Yksinluistelijoiden perinteinen Joulunäytös esitetään torst
 aina 19.12. teemalla Joulu velhokoulussa!\n&nbsp\;\n\nNäytös järjestet
 ään Espoonlahden Forum jäähallissa torstaina 19.12.\nNäytöksiä jär
 jestetään kaksi: klo 16.00 ja 18.30.\n\nKäsiohjelma\n\nLiput\n\nEnnakko
 on\nAikuiset 15 € / Lapset 10 €\n\nOvelta\nAikuiset 18 € / Lapset 12
  €\n\nLiput myynnissä hs.fi/menokone.\n\nYhteistyössä mukana: \n\n\n
 \nsekä #stanleysuomi
ATTACH;FMTTYPE=image/jpeg:https://www.etkespoo.com/wp-content/uploads/ETK-
 joulunaytos_menokone-1.png
CATEGORIES:Näytös,Ajankohtaista
LOCATION:Espoonlahden Forum -jäähalli\, Espoonlahdentie 2-4\, Espoo\, 023
 20\, Suomi
X-APPLE-STRUCTURED-LOCATION;VALUE=URI;X-ADDRESS=Espoonlahdentie 2-4\, Espoo
 \, 02320\, Suomi;X-APPLE-RADIUS=100;X-TITLE=Espoonlahden Forum -jäähalli
 :geo:0,0
END:VEVENT
BEGIN:VTIMEZONE
TZID:Europe/Helsinki
X-LIC-LOCATION:Europe/Helsinki
BEGIN:STANDARD
DTSTART:20241027T030000
TZOFFSETFROM:+0300
TZOFFSETTO:+0200
TZNAME:EET
END:STANDARD
END:VTIMEZONE
END:VCALENDAR