BEGIN:VCALENDAR
VERSION:2.0
PRODID:-//wp-events-plugin.com//6.6.1//EN
TZID:Europe/Helsinki
X-WR-TIMEZONE:Europe/Helsinki
BEGIN:VEVENT
UID:32@etkespoo.com
DTSTART;TZID=Europe/Helsinki:20260328T120000
DTEND;TZID=Europe/Helsinki:20260328T143000
DTSTAMP:20251202T130519Z
URL:https://www.etkespoo.com/tapahtumat/kevatnaytos-2025-ihana-ankanpoikan
 en/
SUMMARY:Kevätnäytös 2026 - Ihana Ankanpoikanen
DESCRIPTION:\n\nLinkki tapahtumasivulle: Kevätnäytös 2025 - Ihana Ankanp
 oikanen - Espoon taitoluisteluklubi ry
CATEGORIES:Näytös
END:VEVENT
BEGIN:VTIMEZONE
TZID:Europe/Helsinki
X-LIC-LOCATION:Europe/Helsinki
BEGIN:STANDARD
DTSTART:20251026T030000
TZOFFSETFROM:+0300
TZOFFSETTO:+0200
TZNAME:EET
END:STANDARD
END:VTIMEZONE
END:VCALENDAR