BEGIN:VCALENDAR
VERSION:2.0
PRODID:-//wp-events-plugin.com//6.6.1//EN
TZID:Europe/Helsinki
X-WR-TIMEZONE:Europe/Helsinki
BEGIN:VEVENT
UID:7@etkespoo.com
DTSTART;TZID=Europe/Helsinki;VALUE=DATE:20240228
DTEND;TZID=Europe/Helsinki;VALUE=DATE:20240229
DTSTAMP:20240228T120652Z
URL:https://www.etkespoo.com/tapahtumat/muodostelmajoukkueiden-testit/
SUMMARY:Vk 12 Muodostelmajoukkueiden testit
DESCRIPTION:ETK:ssa on tulevalla kaudella 11 kilpailevaa joukkuetta yhdeks
 ässä eri sarjassa. Kevään 2024 testit ovat SM-noviisien\, -juniorien j
 a -seniorien osalta maksulliset. Testimaksu 10€. Muihin joukkueisiin ilm
 oittautudaan ennakkotietolomakkeella. Katso lisätiedot testisivulta.\n\nK
 annustamme tutustumaan hakijan muistilistaan ennen testeihin saapumista.\n
 \nLumineers - SM-seniorit\nReflections - SM-juniorit\nBlue Arrows - SM-nov
 iisit\nRainbows - Minorit\nSunbeams - Tulokkaat\nLightnings - Juniorit\nEl
 ectronics - Noviisit\nIce Sweets - Noviisit\nSituations - Seniorit\nReunio
 ns - Masters\nShadows - Aikuiset\nUusi joukkue - Aikuiset
ATTACH;FMTTYPE=image/jpeg:https://www.etkespoo.com/wp-content/uploads/1.jp
 g
CATEGORIES:Testit
END:VEVENT
BEGIN:VTIMEZONE
TZID:Europe/Helsinki
X-LIC-LOCATION:Europe/Helsinki
BEGIN:STANDARD
DTSTART:20231029T030000
TZOFFSETFROM:+0300
TZOFFSETTO:+0200
TZNAME:EET
END:STANDARD
END:VTIMEZONE
END:VCALENDAR