BEGIN:VCALENDAR
VERSION:2.0
PRODID:-//wp-events-plugin.com//6.6.1//EN
TZID:Europe/Helsinki
X-WR-TIMEZONE:Europe/Helsinki
BEGIN:VEVENT
UID:31@etkespoo.com
DTSTART;TZID=Europe/Helsinki:20251211T181500
DTEND;TZID=Europe/Helsinki:20251211T194500
DTSTAMP:20251117T090131Z
URL:https://www.etkespoo.com/tapahtumat/muodostelmaluistelun-joulunaytos/
SUMMARY:Muodostelmaluistelun joulunäytös
DESCRIPTION:\n\n&nbsp\;\n\nLinkki tapahtumasivulle: Muodostelmaluistelun jo
 ulunäytös 2025 - Espoon taitoluisteluklubi ry
CATEGORIES:Näytös
END:VEVENT
BEGIN:VTIMEZONE
TZID:Europe/Helsinki
X-LIC-LOCATION:Europe/Helsinki
BEGIN:STANDARD
DTSTART:20251026T030000
TZOFFSETFROM:+0300
TZOFFSETTO:+0200
TZNAME:EET
END:STANDARD
END:VTIMEZONE
END:VCALENDAR