BEGIN:VCALENDAR
VERSION:2.0
PRODID:-//wp-events-plugin.com//6.6.1//EN
TZID:Europe/Helsinki
X-WR-TIMEZONE:Europe/Helsinki
BEGIN:VEVENT
UID:26@etkespoo.com
DTSTART;TZID=Europe/Helsinki:20251025T130000
DTEND;TZID=Europe/Helsinki:20251025T180000
DTSTAMP:20250929T075045Z
URL:https://www.etkespoo.com/tapahtumat/synchro-gaala-2025/
SUMMARY:Synchro Gaala 2025
DESCRIPTION:Espoon taitoluisteluseurat ( EsJt\, ETK ja ESS ) järjestävät
  muodostelmaluistelujoukkueiden yhteisen Synchrogaalan lauantaina 25.10.20
 25 klo 13 alkaen. Synchro Gaalassa esiintyvät kaikkien kolmen seuran muod
 ostelmaluistelujoukkueet kilpaohjelmillaan. \n\nLiput myynnissä: Synchro
 gaala 2025 lippuja | la 25. lokak. 2025 klo 13.00 ESPOO METRO AREENA\, ESP
 OO | Ticketmaster Suomi\n\nTule seuraamaan muodostelmaluisteluohjelmien en
 si-iltaa Metro Areenalle!
ATTACH;FMTTYPE=image/jpeg:https://www.etkespoo.com/wp-content/uploads/2-1.
 png
CATEGORIES:Näytös
LOCATION:Metro Areena\, Urheilupuistontie 3\, Espoo\, 02200\, Suomi
X-APPLE-STRUCTURED-LOCATION;VALUE=URI;X-ADDRESS=Urheilupuistontie 3\, Espoo
 \, 02200\, Suomi;X-APPLE-RADIUS=100;X-TITLE=Metro Areena:geo:0,0
END:VEVENT
BEGIN:VTIMEZONE
TZID:Europe/Helsinki
X-LIC-LOCATION:Europe/Helsinki
BEGIN:DAYLIGHT
DTSTART:20250330T040000
TZOFFSETFROM:+0200
TZOFFSETTO:+0300
TZNAME:EEST
END:DAYLIGHT
END:VTIMEZONE
END:VCALENDAR