BEGIN:VCALENDAR
VERSION:2.0
PRODID:-//wp-events-plugin.com//6.6.1//EN
TZID:Europe/Helsinki
X-WR-TIMEZONE:Europe/Helsinki
BEGIN:VEVENT
UID:9@etkespoo.com
DTSTART;TZID=Europe/Helsinki;VALUE=DATE:20240902
DTEND;TZID=Europe/Helsinki;VALUE=DATE:20240903
DTSTAMP:20240930T123000Z
URL:https://www.etkespoo.com/tapahtumat/vk-36-luistelukoulut-kaynnistyvat/
SUMMARY:VK 36 Luistelukoulut käynnistyvät
DESCRIPTION:Luistelukoulu käynnistyy\nLuistelukouluryhmät käynnistyvät 
 syyskuun ensimmäisellä viikolla.\n\nETK:n syksyn luistelukoulut tarjoava
 t syksyllä 2024 ryhmiä eri ikäisille ja tasoisille. Valitse itsellesi t
 ai lapsellesi sopiva ryhmä\, ja ilmoittaudu mukaan. Lisätiedot ryhmistä
  ja ryhmien harjoitusajoista löydät täältä.\n\nIlmoittautuminen luist
 elukouluryhmiin avataan 31.5.\nPerusryhmät (harjoitukset 1x/vko)\nTaapero
 t 2-3v\nTenavat 4-6v\nKoululaiset 7-12v\nNuoret 13-17v\nJääkristallit (e
 rityisryhmä) ei ikärajaa\nJatkoryhmät (harjoitukset 2x/vko)\nPienet Tä
 hdet 3-4v\nIsot Tähdet 4-6v\nRevontulet 7-14v\nAikuisten ryhmät (harjoit
 ukset 1x/vko)\nSunrise\nSunset\nSunshine\n\nKehitysryhmiin (Jalokivet 5-7 
 -vuotiaat ja Rubiinit 7-10-vuotiaat) otetaan mukaan luistelijoita kokeiluk
 erran kautta. Lisätiedot: luistelukoulu@etkespoo.com.\n\n&nbsp\;
ATTACH;FMTTYPE=image/jpeg:https://www.etkespoo.com/wp-content/uploads/LUIS
 TELUKOULU.png
CATEGORIES:Ajankohtaista
END:VEVENT
BEGIN:VTIMEZONE
TZID:Europe/Helsinki
X-LIC-LOCATION:Europe/Helsinki
BEGIN:DAYLIGHT
DTSTART:20240331T040000
TZOFFSETFROM:+0200
TZOFFSETTO:+0300
TZNAME:EEST
END:DAYLIGHT
END:VTIMEZONE
END:VCALENDAR